BEGIN:VCALENDAR
VERSION:2.0
PRODID:-//Revista Al Compàs - ECPv6.15.20//NONSGML v1.0//EN
CALSCALE:GREGORIAN
METHOD:PUBLISH
X-WR-CALNAME:Revista Al Compàs
X-ORIGINAL-URL:https://alcompasrevista.com
X-WR-CALDESC:Eventos para Revista Al Compàs
REFRESH-INTERVAL;VALUE=DURATION:PT1H
X-Robots-Tag:noindex
X-PUBLISHED-TTL:PT1H
BEGIN:VTIMEZONE
TZID:Europe/Madrid
BEGIN:DAYLIGHT
TZOFFSETFROM:+0100
TZOFFSETTO:+0200
TZNAME:CEST
DTSTART:20220327T010000
END:DAYLIGHT
BEGIN:STANDARD
TZOFFSETFROM:+0200
TZOFFSETTO:+0100
TZNAME:CET
DTSTART:20221030T010000
END:STANDARD
BEGIN:DAYLIGHT
TZOFFSETFROM:+0100
TZOFFSETTO:+0200
TZNAME:CEST
DTSTART:20230326T010000
END:DAYLIGHT
BEGIN:STANDARD
TZOFFSETFROM:+0200
TZOFFSETTO:+0100
TZNAME:CET
DTSTART:20231029T010000
END:STANDARD
BEGIN:DAYLIGHT
TZOFFSETFROM:+0100
TZOFFSETTO:+0200
TZNAME:CEST
DTSTART:20240331T010000
END:DAYLIGHT
BEGIN:STANDARD
TZOFFSETFROM:+0200
TZOFFSETTO:+0100
TZNAME:CET
DTSTART:20241027T010000
END:STANDARD
BEGIN:DAYLIGHT
TZOFFSETFROM:+0100
TZOFFSETTO:+0200
TZNAME:CEST
DTSTART:20250330T010000
END:DAYLIGHT
BEGIN:STANDARD
TZOFFSETFROM:+0200
TZOFFSETTO:+0100
TZNAME:CET
DTSTART:20251026T010000
END:STANDARD
END:VTIMEZONE
BEGIN:VEVENT
DTSTART;VALUE=DATE:20240629
DTEND;VALUE=DATE:20240702
DTSTAMP:20260421T212545
CREATED:20240605T104821Z
LAST-MODIFIED:20240605T104821Z
UID:10000741-1719633600-1719806399@alcompasrevista.com
SUMMARY:Banda Comarcal Plana Baixa
DESCRIPTION:Vall d’Uixó.
URL:https://alcompasrevista.com/agenda/banda-comarcal-plana-baixa
LOCATION:Vall d’Uixó\, Plaça de L'Assumpció
ATTACH;FMTTYPE=image/png:https://alcompasrevista.com/wp-content/uploads/2024/05/Captura-de-pantalla-2024-05-30-a-las-11.26.50.png
END:VEVENT
BEGIN:VEVENT
DTSTART;TZID=Europe/Madrid:20230930T220000
DTEND;TZID=Europe/Madrid:20230930T220000
DTSTAMP:20260421T212545
CREATED:20230926T110840Z
LAST-MODIFIED:20230926T134145Z
UID:10000099-1696111200-1696111200@alcompasrevista.com
SUMMARY:XXV Concierto de la Asunción del Ateneo Musical Schola Cantorum de la Vall d'Uixó
DESCRIPTION:Celebración del 60 aniversario de la banda sinfónica del Ateneo Musical Schola Cantorum de la Vall d’Uixó.
URL:https://alcompasrevista.com/agenda/xxv-concierto-de-asuncion-60-aniversario-de-la-banda-sinfonica
LOCATION:Vall d’Uixó\, Plaça de L'Assumpció
CATEGORIES:concierto
ATTACH;FMTTYPE=image/jpeg:https://alcompasrevista.com/wp-content/uploads/2023/09/cartel-vall.jpg
END:VEVENT
END:VCALENDAR