BEGIN:VCALENDAR
VERSION:2.0
PRODID:-//Revista Al Compàs - ECPv6.15.20//NONSGML v1.0//EN
CALSCALE:GREGORIAN
METHOD:PUBLISH
X-ORIGINAL-URL:https://alcompasrevista.com
X-WR-CALDESC:Eventos para Revista Al Compàs
REFRESH-INTERVAL;VALUE=DURATION:PT1H
X-Robots-Tag:noindex
X-PUBLISHED-TTL:PT1H
BEGIN:VTIMEZONE
TZID:Europe/Madrid
BEGIN:DAYLIGHT
TZOFFSETFROM:+0100
TZOFFSETTO:+0200
TZNAME:CEST
DTSTART:20220327T010000
END:DAYLIGHT
BEGIN:STANDARD
TZOFFSETFROM:+0200
TZOFFSETTO:+0100
TZNAME:CET
DTSTART:20221030T010000
END:STANDARD
BEGIN:DAYLIGHT
TZOFFSETFROM:+0100
TZOFFSETTO:+0200
TZNAME:CEST
DTSTART:20230326T010000
END:DAYLIGHT
BEGIN:STANDARD
TZOFFSETFROM:+0200
TZOFFSETTO:+0100
TZNAME:CET
DTSTART:20231029T010000
END:STANDARD
BEGIN:DAYLIGHT
TZOFFSETFROM:+0100
TZOFFSETTO:+0200
TZNAME:CEST
DTSTART:20240331T010000
END:DAYLIGHT
BEGIN:STANDARD
TZOFFSETFROM:+0200
TZOFFSETTO:+0100
TZNAME:CET
DTSTART:20241027T010000
END:STANDARD
END:VTIMEZONE
BEGIN:VEVENT
DTSTART;TZID=Europe/Madrid:20231202T190000
DTEND;TZID=Europe/Madrid:20231202T190000
DTSTAMP:20260424T034341
CREATED:20231130T111729Z
LAST-MODIFIED:20231130T111729Z
UID:10000333-1701543600-1701543600@alcompasrevista.com
SUMMARY:Reconocimiento de la Cultura 2023 a la FSMCV
DESCRIPTION:Diputació de València
URL:https://alcompasrevista.com/agenda/reconocimiento-de-la-cultura-2023-a-la-fsmcv
LOCATION:Teatro Rambal\, Utiel
ATTACH;FMTTYPE=image/png:https://alcompasrevista.com/wp-content/uploads/2023/11/101.png
END:VEVENT
BEGIN:VEVENT
DTSTART;TZID=Europe/Madrid:20230923T193000
DTEND;TZID=Europe/Madrid:20230923T193000
DTSTAMP:20260424T034341
CREATED:20230922T101448Z
LAST-MODIFIED:20230922T101448Z
UID:10000070-1695497400-1695497400@alcompasrevista.com
SUMMARY:Concierto de Intercambio de la SM Santa Cecilia de Chera y la banda juvenil de la UM Utielana
DESCRIPTION:Campaña de Conciertos de Intercambios.
URL:https://alcompasrevista.com/agenda/concierto-de-intercambio-de-la-sm-santa-cecilia-de-chera-y-la-banda-juvenil-de-la-um-utielana
LOCATION:Teatro Rambal\, Utiel
CATEGORIES:concierto
ATTACH;FMTTYPE=image/jpeg:https://alcompasrevista.com/wp-content/uploads/2023/06/inter-1.jpg
END:VEVENT
END:VCALENDAR