BEGIN:VCALENDAR
VERSION:2.0
PRODID:-//Revista Al Compàs - ECPv6.15.20//NONSGML v1.0//EN
CALSCALE:GREGORIAN
METHOD:PUBLISH
X-ORIGINAL-URL:https://alcompasrevista.com
X-WR-CALDESC:Eventos para Revista Al Compàs
REFRESH-INTERVAL;VALUE=DURATION:PT1H
X-Robots-Tag:noindex
X-PUBLISHED-TTL:PT1H
BEGIN:VTIMEZONE
TZID:Europe/Madrid
BEGIN:DAYLIGHT
TZOFFSETFROM:+0100
TZOFFSETTO:+0200
TZNAME:CEST
DTSTART:20230326T010000
END:DAYLIGHT
BEGIN:STANDARD
TZOFFSETFROM:+0200
TZOFFSETTO:+0100
TZNAME:CET
DTSTART:20231029T010000
END:STANDARD
BEGIN:DAYLIGHT
TZOFFSETFROM:+0100
TZOFFSETTO:+0200
TZNAME:CEST
DTSTART:20240331T010000
END:DAYLIGHT
BEGIN:STANDARD
TZOFFSETFROM:+0200
TZOFFSETTO:+0100
TZNAME:CET
DTSTART:20241027T010000
END:STANDARD
BEGIN:DAYLIGHT
TZOFFSETFROM:+0100
TZOFFSETTO:+0200
TZNAME:CEST
DTSTART:20250330T010000
END:DAYLIGHT
BEGIN:STANDARD
TZOFFSETFROM:+0200
TZOFFSETTO:+0100
TZNAME:CET
DTSTART:20251026T010000
END:STANDARD
BEGIN:DAYLIGHT
TZOFFSETFROM:+0100
TZOFFSETTO:+0200
TZNAME:CEST
DTSTART:20260329T010000
END:DAYLIGHT
BEGIN:STANDARD
TZOFFSETFROM:+0200
TZOFFSETTO:+0100
TZNAME:CET
DTSTART:20261025T010000
END:STANDARD
END:VTIMEZONE
BEGIN:VEVENT
DTSTART;TZID=Europe/Madrid:20250227T190000
DTEND;TZID=Europe/Madrid:20250227T200000
DTSTAMP:20260422T113653
CREATED:20250205T152011Z
LAST-MODIFIED:20250205T152011Z
UID:10001088-1740682800-1740686400@alcompasrevista.com
SUMMARY:Orquesta de Valencia
DESCRIPTION:Director y piano por Wayne Marshall
URL:https://alcompasrevista.com/agenda/orquesta-de-valencia-2
LOCATION:Sala Iturbi\, Palau de la Música\, Valencia
ATTACH;FMTTYPE=image/png:https://alcompasrevista.com/wp-content/uploads/2025/02/logo-palau-musica-300x300-1.png
END:VEVENT
BEGIN:VEVENT
DTSTART;TZID=Europe/Madrid:20250214T193000
DTEND;TZID=Europe/Madrid:20250214T203000
DTSTAMP:20260422T113653
CREATED:20250205T152934Z
LAST-MODIFIED:20250205T152934Z
UID:10001092-1739561400-1739565000@alcompasrevista.com
SUMMARY:Orquesta de Valencia
DESCRIPTION:Dir. Alexander Liebreich
URL:https://alcompasrevista.com/agenda/orquesta-de-valencia-3
LOCATION:Sala Iturbi\, Palau de la Música\, Valencia
ATTACH;FMTTYPE=image/png:https://alcompasrevista.com/wp-content/uploads/2025/02/logo-palau-musica-300x300-1.png
END:VEVENT
BEGIN:VEVENT
DTSTART;TZID=Europe/Madrid:20250209T113000
DTEND;TZID=Europe/Madrid:20250209T123000
DTSTAMP:20260422T113653
CREATED:20250130T161652Z
LAST-MODIFIED:20250130T161652Z
UID:10001083-1739100600-1739104200@alcompasrevista.com
SUMMARY:Concierto: El secreto del viento azul
DESCRIPTION:Banda Sinfónica Municipal de Valencia
URL:https://alcompasrevista.com/agenda/concierto-el-secreto-del-viento-azul
LOCATION:Sala Iturbi\, Palau de la Música\, Valencia
ATTACH;FMTTYPE=image/jpeg:https://alcompasrevista.com/wp-content/uploads/2025/01/9-2-25-Viento-Azul-BSMV-Fulleta-CAST_VER4-1_page-0001-300x300-1.jpg
END:VEVENT
BEGIN:VEVENT
DTSTART;TZID=Europe/Madrid:20250207T193000
DTEND;TZID=Europe/Madrid:20250207T203000
DTSTAMP:20260422T113653
CREATED:20250130T161449Z
LAST-MODIFIED:20250130T161449Z
UID:10001082-1738956600-1738960200@alcompasrevista.com
SUMMARY:Concierto Solidario por la DANA – Dir. Jordi Savall
DESCRIPTION:FSMCV y Fundación Centre Internacional de Música Antiga.
URL:https://alcompasrevista.com/agenda/concierto-solidario-por-la-dana-dir-jordi-savall
LOCATION:Sala Iturbi\, Palau de la Música\, Valencia
END:VEVENT
BEGIN:VEVENT
DTSTART;TZID=Europe/Madrid:20250206T191500
DTEND;TZID=Europe/Madrid:20250206T201500
DTSTAMP:20260422T113653
CREATED:20250205T151627Z
LAST-MODIFIED:20250205T151627Z
UID:10001087-1738869300-1738872900@alcompasrevista.com
SUMMARY:Los 12 chelistas de la filarmónica de Berlín
DESCRIPTION:Sociedad Filarmónica de Valencia (Solo socios)
URL:https://alcompasrevista.com/agenda/los-12-chelistas-de-la-filarmonica-de-berlin
LOCATION:Sala Iturbi\, Palau de la Música\, Valencia
END:VEVENT
BEGIN:VEVENT
DTSTART;TZID=Europe/Madrid:20250205T183000
DTEND;TZID=Europe/Madrid:20250205T193000
DTSTAMP:20260422T113653
CREATED:20250130T160950Z
LAST-MODIFIED:20250130T160950Z
UID:10001080-1738780200-1738783800@alcompasrevista.com
SUMMARY:Concierto Solidario «La Novena para València» – Dir. Juanjo Mena
DESCRIPTION:FSMCV y Orquesta Sinfónica de Madrid
URL:https://alcompasrevista.com/agenda/concierto-solidario-la-novena-para-valencia-dir-juanjo-mena
LOCATION:Sala Iturbi\, Palau de la Música\, Valencia
END:VEVENT
BEGIN:VEVENT
DTSTART;TZID=Europe/Madrid:20250203T193000
DTEND;TZID=Europe/Madrid:20250203T203000
DTSTAMP:20260422T113653
CREATED:20250130T160811Z
LAST-MODIFIED:20250130T160811Z
UID:10001079-1738611000-1738614600@alcompasrevista.com
SUMMARY:Concierto Solidario por la DANA – Dir. Gustavo Dudamel
DESCRIPTION:FSMCV y Palau de la Música de Valencia.
URL:https://alcompasrevista.com/agenda/concierto-solidario-por-la-dana-dir-gustavo-dudamel
LOCATION:Sala Iturbi\, Palau de la Música\, Valencia
END:VEVENT
BEGIN:VEVENT
DTSTART;TZID=Europe/Madrid:20250116T193000
DTEND;TZID=Europe/Madrid:20250116T213000
DTSTAMP:20260422T113653
CREATED:20250113T154821Z
LAST-MODIFIED:20250113T154821Z
UID:10001056-1737055800-1737063000@alcompasrevista.com
SUMMARY:Concierto Banda Municipal de Valencia y el Conservatorio Superior de Danza de València "Nacho Duato"
DESCRIPTION:
URL:https://alcompasrevista.com/agenda/concierto-banda-municipal-de-valencia-y-el-conservatorio-superior-de-danza-de-valencia-nacho-duato
LOCATION:Sala Iturbi\, Palau de la Música\, Valencia
ATTACH;FMTTYPE=image/jpeg:https://alcompasrevista.com/wp-content/uploads/2025/01/BANDA-MUNICIPAL-VALENCIA.jpg
END:VEVENT
BEGIN:VEVENT
DTSTART;TZID=Europe/Madrid:20241005T190000
DTEND;TZID=Europe/Madrid:20241005T190000
DTSTAMP:20260422T113653
CREATED:20240930T142815Z
LAST-MODIFIED:20240930T142815Z
UID:10001018-1728154800-1728154800@alcompasrevista.com
SUMMARY:Concierto celebración del Día de la Comunidad Valenciana
DESCRIPTION:Palau de la Música
URL:https://alcompasrevista.com/agenda/concierto-celebracion-del-dia-de-la-comunidad-valenciana
LOCATION:Sala Iturbi\, Palau de la Música\, Valencia
CATEGORIES:concierto
ATTACH;FMTTYPE=image/png:https://alcompasrevista.com/wp-content/uploads/2024/09/Captura-de-pantalla-2024-09-30-a-las-16.27.29.png
END:VEVENT
BEGIN:VEVENT
DTSTART;TZID=Europe/Madrid:20240929T180000
DTEND;TZID=Europe/Madrid:20240929T180000
DTSTAMP:20260422T113653
CREATED:20240926T135319Z
LAST-MODIFIED:20240926T135319Z
UID:10000996-1727632800-1727632800@alcompasrevista.com
SUMMARY:Encuentro de Corales de la Coordinadora
DESCRIPTION:La Coordinadora de Sociedades Musicales de Valencia
URL:https://alcompasrevista.com/agenda/encuentro-de-corales-de-la-coordinadora
LOCATION:Sala Iturbi\, Palau de la Música\, Valencia
CATEGORIES:Encuentro
ATTACH;FMTTYPE=image/png:https://alcompasrevista.com/wp-content/uploads/2024/09/Captura-de-pantalla-2024-09-26-a-las-15.52.36.png
END:VEVENT
END:VCALENDAR