BEGIN:VCALENDAR
VERSION:2.0
PRODID:-//Revista Al Compàs - ECPv6.15.20//NONSGML v1.0//EN
CALSCALE:GREGORIAN
METHOD:PUBLISH
X-WR-CALNAME:Revista Al Compàs
X-ORIGINAL-URL:https://alcompasrevista.com
X-WR-CALDESC:Eventos para Revista Al Compàs
REFRESH-INTERVAL;VALUE=DURATION:PT1H
X-Robots-Tag:noindex
X-PUBLISHED-TTL:PT1H
BEGIN:VTIMEZONE
TZID:Europe/Madrid
BEGIN:DAYLIGHT
TZOFFSETFROM:+0100
TZOFFSETTO:+0200
TZNAME:CEST
DTSTART:20230326T010000
END:DAYLIGHT
BEGIN:STANDARD
TZOFFSETFROM:+0200
TZOFFSETTO:+0100
TZNAME:CET
DTSTART:20231029T010000
END:STANDARD
BEGIN:DAYLIGHT
TZOFFSETFROM:+0100
TZOFFSETTO:+0200
TZNAME:CEST
DTSTART:20240331T010000
END:DAYLIGHT
BEGIN:STANDARD
TZOFFSETFROM:+0200
TZOFFSETTO:+0100
TZNAME:CET
DTSTART:20241027T010000
END:STANDARD
BEGIN:DAYLIGHT
TZOFFSETFROM:+0100
TZOFFSETTO:+0200
TZNAME:CEST
DTSTART:20250330T010000
END:DAYLIGHT
BEGIN:STANDARD
TZOFFSETFROM:+0200
TZOFFSETTO:+0100
TZNAME:CET
DTSTART:20251026T010000
END:STANDARD
END:VTIMEZONE
BEGIN:VEVENT
DTSTART;TZID=Europe/Madrid:20240927T200000
DTEND;TZID=Europe/Madrid:20240927T200000
DTSTAMP:20260420T194141
CREATED:20240926T120639Z
LAST-MODIFIED:20240926T120639Z
UID:10000983-1727467200-1727467200@alcompasrevista.com
SUMMARY:Concierto de la Colla de Dolçaines La Vella de Xàtiva y Colla de dolçaines Cap Amunt de Montesa
DESCRIPTION:SM LA PRIMITIVA SETABENSE DE XÀTIVA – CAP AMUNT DE MONTESA. Intercambios.
URL:https://alcompasrevista.com/agenda/concierto-de-la-colla-de-dolcaines-la-vella-de-xativa-y-colla-de-dolcaines-cap-amunt-de-montesa
LOCATION:Sala de ensayos de la SM La Primitiva Setabense de Xàtiva
CATEGORIES:Concentración
ATTACH;FMTTYPE=image/png:https://alcompasrevista.com/wp-content/uploads/2024/09/Captura-de-pantalla-2024-09-26-a-las-14.05.25-1.png
END:VEVENT
END:VCALENDAR