BEGIN:VCALENDAR
VERSION:2.0
PRODID:-//Revista Al Compàs - ECPv6.15.20//NONSGML v1.0//EN
CALSCALE:GREGORIAN
METHOD:PUBLISH
X-WR-CALNAME:Revista Al Compàs
X-ORIGINAL-URL:https://alcompasrevista.com
X-WR-CALDESC:Eventos para Revista Al Compàs
REFRESH-INTERVAL;VALUE=DURATION:PT1H
X-Robots-Tag:noindex
X-PUBLISHED-TTL:PT1H
BEGIN:VTIMEZONE
TZID:Europe/Madrid
BEGIN:DAYLIGHT
TZOFFSETFROM:+0100
TZOFFSETTO:+0200
TZNAME:CEST
DTSTART:20220327T010000
END:DAYLIGHT
BEGIN:STANDARD
TZOFFSETFROM:+0200
TZOFFSETTO:+0100
TZNAME:CET
DTSTART:20221030T010000
END:STANDARD
BEGIN:DAYLIGHT
TZOFFSETFROM:+0100
TZOFFSETTO:+0200
TZNAME:CEST
DTSTART:20230326T010000
END:DAYLIGHT
BEGIN:STANDARD
TZOFFSETFROM:+0200
TZOFFSETTO:+0100
TZNAME:CET
DTSTART:20231029T010000
END:STANDARD
BEGIN:DAYLIGHT
TZOFFSETFROM:+0100
TZOFFSETTO:+0200
TZNAME:CEST
DTSTART:20240331T010000
END:DAYLIGHT
BEGIN:STANDARD
TZOFFSETFROM:+0200
TZOFFSETTO:+0100
TZNAME:CET
DTSTART:20241027T010000
END:STANDARD
END:VTIMEZONE
BEGIN:VEVENT
DTSTART;TZID=Europe/Madrid:20230810T223000
DTEND;TZID=Europe/Madrid:20230810T223000
DTSTAMP:20260424T131014
CREATED:20230809T145802Z
LAST-MODIFIED:20230809T145802Z
UID:10000014-1691706600-1691706600@alcompasrevista.com
SUMMARY:Concierto UM Santa Cecilia de Sueras
DESCRIPTION:Concierto de verano junto a El Hombre Verbena.
URL:https://alcompasrevista.com/agenda/concierto-um-santa-cecilia-de-sueras
LOCATION:Plaza de la Font Seca\, Sueras
ATTACH;FMTTYPE=image/jpeg:https://alcompasrevista.com/wp-content/uploads/2023/08/sueras.jpg
END:VEVENT
END:VCALENDAR