BEGIN:VCALENDAR
VERSION:2.0
PRODID:-//Revista Al Compàs - ECPv6.15.20//NONSGML v1.0//EN
CALSCALE:GREGORIAN
METHOD:PUBLISH
X-ORIGINAL-URL:https://alcompasrevista.com
X-WR-CALDESC:Eventos para Revista Al Compàs
REFRESH-INTERVAL;VALUE=DURATION:PT1H
X-Robots-Tag:noindex
X-PUBLISHED-TTL:PT1H
BEGIN:VTIMEZONE
TZID:Europe/Madrid
BEGIN:DAYLIGHT
TZOFFSETFROM:+0100
TZOFFSETTO:+0200
TZNAME:CEST
DTSTART:20230326T010000
END:DAYLIGHT
BEGIN:STANDARD
TZOFFSETFROM:+0200
TZOFFSETTO:+0100
TZNAME:CET
DTSTART:20231029T010000
END:STANDARD
BEGIN:DAYLIGHT
TZOFFSETFROM:+0100
TZOFFSETTO:+0200
TZNAME:CEST
DTSTART:20240331T010000
END:DAYLIGHT
BEGIN:STANDARD
TZOFFSETFROM:+0200
TZOFFSETTO:+0100
TZNAME:CET
DTSTART:20241027T010000
END:STANDARD
BEGIN:DAYLIGHT
TZOFFSETFROM:+0100
TZOFFSETTO:+0200
TZNAME:CEST
DTSTART:20250330T010000
END:DAYLIGHT
BEGIN:STANDARD
TZOFFSETFROM:+0200
TZOFFSETTO:+0100
TZNAME:CET
DTSTART:20251026T010000
END:STANDARD
BEGIN:DAYLIGHT
TZOFFSETFROM:+0100
TZOFFSETTO:+0200
TZNAME:CEST
DTSTART:20260329T010000
END:DAYLIGHT
BEGIN:STANDARD
TZOFFSETFROM:+0200
TZOFFSETTO:+0100
TZNAME:CET
DTSTART:20261025T010000
END:STANDARD
END:VTIMEZONE
BEGIN:VEVENT
DTSTART;VALUE=DATE:20250329
DTEND;VALUE=DATE:20250401
DTSTAMP:20260421T103302
CREATED:20250207T114446Z
LAST-MODIFIED:20250207T114446Z
UID:10001101-1743220800-1743393599@alcompasrevista.com
SUMMARY:48 Certamen de Bandas de Música 2025
DESCRIPTION:Diputación de Valencia
URL:https://alcompasrevista.com/agenda/48-certamen-de-bandas-de-musica-2025
LOCATION:Palau de la Música de València
END:VEVENT
BEGIN:VEVENT
DTSTART;VALUE=DATE:20240720
DTEND;VALUE=DATE:20240722
DTSTAMP:20260421T103302
CREATED:20240625T114914Z
LAST-MODIFIED:20240703T134337Z
UID:10000805-1721448000-1721534399@alcompasrevista.com
SUMMARY:Concert JSB FSMCV - Clausura Certamen Internacional CV
DESCRIPTION:Certamen Internacional de Bandas de Música de València
URL:https://alcompasrevista.com/agenda/concert-jsb-fsmcv-clausura-certamen-internacional-cv
LOCATION:Palau de la Música de València
CATEGORIES:concierto
ATTACH;FMTTYPE=image/jpeg:https://alcompasrevista.com/wp-content/uploads/2024/06/PROGRAMACION-JBS-2024_Cas.jpg
END:VEVENT
BEGIN:VEVENT
DTSTART;VALUE=DATE:20240718
DTEND;VALUE=DATE:20240723
DTSTAMP:20260421T103302
CREATED:20240625T114617Z
LAST-MODIFIED:20240625T114645Z
UID:10000804-1721275200-1721620799@alcompasrevista.com
SUMMARY:Certamen Internacional de Bandas de Música de Valencia
DESCRIPTION:Ayuntamiento de Valencia
URL:https://alcompasrevista.com/agenda/certamen-internacional-de-bandas-de-musica-de-valencia
LOCATION:Palau de la Música de València
CATEGORIES:Certamen
ATTACH;FMTTYPE=image/png:https://alcompasrevista.com/wp-content/uploads/2024/06/Captura-de-pantalla-2024-06-25-a-las-13.45.01.png
END:VEVENT
BEGIN:VEVENT
DTSTART;TZID=Europe/Madrid:20240713T203000
DTEND;TZID=Europe/Madrid:20240713T203000
DTSTAMP:20260421T103302
CREATED:20240705T104111Z
LAST-MODIFIED:20240705T104111Z
UID:10000840-1720902600-1720902600@alcompasrevista.com
SUMMARY:Acto inauguración Certamen Internacional de Bandas de Música Ciudad de Valencia
DESCRIPTION:Ayuntamiento de Valencia
URL:https://alcompasrevista.com/agenda/acto-inauguracion-certamen-internacional-de-bandas-de-musica-ciudad-de-valencia
LOCATION:Palau de la Música de València
CATEGORIES:Inauguración
ATTACH;FMTTYPE=image/png:https://alcompasrevista.com/wp-content/uploads/2024/06/Captura-de-pantalla-2024-06-25-a-las-13.45.01.png
END:VEVENT
BEGIN:VEVENT
DTSTART;TZID=Europe/Madrid:20240601T193000
DTEND;TZID=Europe/Madrid:20240601T193000
DTSTAMP:20260421T103302
CREATED:20240528T143439Z
LAST-MODIFIED:20240528T143439Z
UID:10000696-1717270200-1717270200@alcompasrevista.com
SUMMARY:Concierto Benéfico en apoyo a la Fundación Vicente Ferrer
DESCRIPTION:Fundación Vicente Ferrer
URL:https://alcompasrevista.com/agenda/concierto-benefico-en-apoyo-a-la-fundacion-vicente-ferrer
LOCATION:Palau de la Música de València
CATEGORIES:concierto
ATTACH;FMTTYPE=image/png:https://alcompasrevista.com/wp-content/uploads/2024/05/Captura-de-pantalla-2024-05-28-a-las-16.33.50.png
END:VEVENT
BEGIN:VEVENT
DTSTART;VALUE=DATE:20240428
DTEND;VALUE=DATE:20240430
DTSTAMP:20260421T103302
CREATED:20240403T113921Z
LAST-MODIFIED:20240403T113921Z
UID:10000554-1714276800-1714363199@alcompasrevista.com
SUMMARY:47 Certamen de Bandas de Música
DESCRIPTION:Diputación de Valencia
URL:https://alcompasrevista.com/agenda/47-certamen-de-bandas-de-musica-2
LOCATION:Palau de la Música de València
CATEGORIES:Concurso
ATTACH;FMTTYPE=image/png:https://alcompasrevista.com/wp-content/uploads/2024/04/Captura-de-pantalla-2024-04-03-a-las-13.36.29.png
END:VEVENT
BEGIN:VEVENT
DTSTART;VALUE=DATE:20240427
DTEND;VALUE=DATE:20240429
DTSTAMP:20260421T103302
CREATED:20240403T113755Z
LAST-MODIFIED:20240403T113755Z
UID:10000553-1714190400-1714276799@alcompasrevista.com
SUMMARY:47 Certamen de Bandas de Música
DESCRIPTION:Diputación de Valencia
URL:https://alcompasrevista.com/agenda/47-certamen-de-bandas-de-musica
LOCATION:Palau de la Música de València
CATEGORIES:Concurso
ATTACH;FMTTYPE=image/png:https://alcompasrevista.com/wp-content/uploads/2024/04/Captura-de-pantalla-2024-04-03-a-las-13.36.29.png
END:VEVENT
END:VCALENDAR