BEGIN:VCALENDAR
VERSION:2.0
PRODID:-//Revista Al Compàs - ECPv6.15.20//NONSGML v1.0//EN
CALSCALE:GREGORIAN
METHOD:PUBLISH
X-WR-CALNAME:Revista Al Compàs
X-ORIGINAL-URL:https://alcompasrevista.com
X-WR-CALDESC:Eventos para Revista Al Compàs
REFRESH-INTERVAL;VALUE=DURATION:PT1H
X-Robots-Tag:noindex
X-PUBLISHED-TTL:PT1H
BEGIN:VTIMEZONE
TZID:Europe/Madrid
BEGIN:DAYLIGHT
TZOFFSETFROM:+0100
TZOFFSETTO:+0200
TZNAME:CEST
DTSTART:20230326T010000
END:DAYLIGHT
BEGIN:STANDARD
TZOFFSETFROM:+0200
TZOFFSETTO:+0100
TZNAME:CET
DTSTART:20231029T010000
END:STANDARD
BEGIN:DAYLIGHT
TZOFFSETFROM:+0100
TZOFFSETTO:+0200
TZNAME:CEST
DTSTART:20240331T010000
END:DAYLIGHT
BEGIN:STANDARD
TZOFFSETFROM:+0200
TZOFFSETTO:+0100
TZNAME:CET
DTSTART:20241027T010000
END:STANDARD
BEGIN:DAYLIGHT
TZOFFSETFROM:+0100
TZOFFSETTO:+0200
TZNAME:CEST
DTSTART:20250330T010000
END:DAYLIGHT
BEGIN:STANDARD
TZOFFSETFROM:+0200
TZOFFSETTO:+0100
TZNAME:CET
DTSTART:20251026T010000
END:STANDARD
END:VTIMEZONE
BEGIN:VEVENT
DTSTART;TZID=Europe/Madrid:20241123T193000
DTEND;TZID=Europe/Madrid:20241123T193000
DTSTAMP:20260419T211335
CREATED:20241126T154232Z
LAST-MODIFIED:20241126T154232Z
UID:10001051-1732390200-1732390200@alcompasrevista.com
SUMMARY:Concierto de Capella de Ministrers 'Misteris del Corpus'
DESCRIPTION:Capella de Ministrers ofrecerá el programa Misteris del Corpus en el Monasterio San Miguel de los Reyes de Valencia que acogerá una presentación\, Teatralitat i música en el Corpus valencià\, a cargo de Francesc Villanueva\, el sábado 23 a las 18h\, y la actuación a las 19:30h. La formación\, dirigida por Carles Magraner\, junto con Lluis Vich Vocalis y el Grup de Danses Alimara\, bajo la dirección de Ximo Martí y Salvador Mercado\, abordará con 40 músicos\, cantantes y bailarines\, obras vinculadas con la procesión del Corpus Christi en un viaje musical a la Valencia del siglo XVII. Para este concierto la Fundación Cultural CdM ha abierto una línea de donaciones y ha habilitado una fila cero destinada a ayudar a los afectados por la catástrofe de la DANA; la entrada es libre y gratuita hasta completar el aforo. \n\n\nEste acontecimiento musical\, que cuenta con la colaboración de la conselleria de Educación\, Cultura\, Universidades y Empleo y el Institut Valencià de Cultura\, será una ventana abierta al pasado\, donde las voces y los instrumentos relatan la historia de una Valencia devota y orgullosa de sus tradiciones\, recreando las danzas\, melodías populares y misterios que durante siglos marcaron la Fiesta Grande valenciana. \n\n\nCapella de Ministrers mostrará en este concierto el esplendor del Corpus Christi valenciano\, una de las festividades más importantes de la ciudad desde 1355\, y recreará el paisaje sonoro que acompañaba la famosa procesión con músicas recuperadas del manuscrito de un libro de Josep Gomar\, escrito en 1672\, en el que el músico de Valencia recogía los textos\, las instrucciones y la música de las representaciones religiosas que año tras año se escenificaban. \n\n\nCarles Magraner asegura que “este concierto será una experiencia única que nos conecta con las profundas raíces musicales y religiosas de Valencia”. El violagambista y musicólogo ha manifestado su satisfacción “por poder compartir esta propuesta con el público valenciano  en la que participarán prestigiosos artistas\, intérpretes y bailarines”. Magraner destaca que “con este acontecimiento musical también queremos mostrar nuestro apoyo a las víctimas y familiares y a los cientos de miles de personas afectadas por las graves inundaciones en Valencia y el resto de España”. \n\n\nTras la catástrofe provocada por la DANA en Valencia\, la Fundación Cultural CdM ha habilitado una fila cero para quienes deseen ayudar a las personas afectadas por la catástrofe de la DANA y colaborar en esta causa a través de SOS Valencia. Las aportaciones se pueden realizar en Caixa Popular: ES50 3159 0067 3625 6683 2727\, o por Bizum: 10540\, con el concepto SOSValència.
URL:https://alcompasrevista.com/agenda/concierto-de-capella-de-ministrers-misteris-del-corpus
LOCATION:Monasterio de San Miguel de los Reyes\, Valencia
ATTACH;FMTTYPE=image/jpeg:https://alcompasrevista.com/wp-content/uploads/2024/11/Misteris-del-Corpus.-Cartel.jpg
END:VEVENT
END:VCALENDAR