BEGIN:VCALENDAR
VERSION:2.0
PRODID:-//Revista Al Compàs - ECPv6.15.20//NONSGML v1.0//EN
CALSCALE:GREGORIAN
METHOD:PUBLISH
X-WR-CALNAME:Revista Al Compàs
X-ORIGINAL-URL:https://alcompasrevista.com
X-WR-CALDESC:Eventos para Revista Al Compàs
REFRESH-INTERVAL;VALUE=DURATION:PT1H
X-Robots-Tag:noindex
X-PUBLISHED-TTL:PT1H
BEGIN:VTIMEZONE
TZID:Europe/Madrid
BEGIN:DAYLIGHT
TZOFFSETFROM:+0100
TZOFFSETTO:+0200
TZNAME:CEST
DTSTART:20230326T010000
END:DAYLIGHT
BEGIN:STANDARD
TZOFFSETFROM:+0200
TZOFFSETTO:+0100
TZNAME:CET
DTSTART:20231029T010000
END:STANDARD
BEGIN:DAYLIGHT
TZOFFSETFROM:+0100
TZOFFSETTO:+0200
TZNAME:CEST
DTSTART:20240331T010000
END:DAYLIGHT
BEGIN:STANDARD
TZOFFSETFROM:+0200
TZOFFSETTO:+0100
TZNAME:CET
DTSTART:20241027T010000
END:STANDARD
BEGIN:DAYLIGHT
TZOFFSETFROM:+0100
TZOFFSETTO:+0200
TZNAME:CEST
DTSTART:20250330T010000
END:DAYLIGHT
BEGIN:STANDARD
TZOFFSETFROM:+0200
TZOFFSETTO:+0100
TZNAME:CET
DTSTART:20251026T010000
END:STANDARD
END:VTIMEZONE
BEGIN:VEVENT
DTSTART;VALUE=DATE:20241019
DTEND;VALUE=DATE:20241021
DTSTAMP:20260420T201250
CREATED:20240905T134105Z
LAST-MODIFIED:20240905T134105Z
UID:10000931-1729310400-1729396799@alcompasrevista.com
SUMMARY:Encuentro de Bandas: XXIX BAIX MAESTRAT
DESCRIPTION:Encuentro de bandas
URL:https://alcompasrevista.com/agenda/encuentro-de-bandas-xxix-baix-maestrat
LOCATION:CANET LO ROIG
CATEGORIES:Encuentro
ATTACH;FMTTYPE=image/png:https://alcompasrevista.com/wp-content/uploads/2024/09/Captura-de-pantalla-2024-09-05-a-las-15.40.23.png
END:VEVENT
END:VCALENDAR