BEGIN:VCALENDAR
VERSION:2.0
PRODID:-//Revista Al Compàs - ECPv6.15.20//NONSGML v1.0//EN
CALSCALE:GREGORIAN
METHOD:PUBLISH
X-ORIGINAL-URL:https://alcompasrevista.com
X-WR-CALDESC:Eventos para Revista Al Compàs
REFRESH-INTERVAL;VALUE=DURATION:PT1H
X-Robots-Tag:noindex
X-PUBLISHED-TTL:PT1H
BEGIN:VTIMEZONE
TZID:Europe/Madrid
BEGIN:DAYLIGHT
TZOFFSETFROM:+0100
TZOFFSETTO:+0200
TZNAME:CEST
DTSTART:20230326T010000
END:DAYLIGHT
BEGIN:STANDARD
TZOFFSETFROM:+0200
TZOFFSETTO:+0100
TZNAME:CET
DTSTART:20231029T010000
END:STANDARD
BEGIN:DAYLIGHT
TZOFFSETFROM:+0100
TZOFFSETTO:+0200
TZNAME:CEST
DTSTART:20240331T010000
END:DAYLIGHT
BEGIN:STANDARD
TZOFFSETFROM:+0200
TZOFFSETTO:+0100
TZNAME:CET
DTSTART:20241027T010000
END:STANDARD
BEGIN:DAYLIGHT
TZOFFSETFROM:+0100
TZOFFSETTO:+0200
TZNAME:CEST
DTSTART:20250330T010000
END:DAYLIGHT
BEGIN:STANDARD
TZOFFSETFROM:+0200
TZOFFSETTO:+0100
TZNAME:CET
DTSTART:20251026T010000
END:STANDARD
END:VTIMEZONE
BEGIN:VEVENT
DTSTART;TZID=Europe/Madrid:20240329T120000
DTEND;TZID=Europe/Madrid:20240329T120000
DTSTAMP:20260421T010550
CREATED:20240327T114636Z
LAST-MODIFIED:20240327T114636Z
UID:10000527-1711713600-1711713600@alcompasrevista.com
SUMMARY:Las Siete Palabras de Cristo a la Cruz\, Haydn
DESCRIPTION:La Artística Manisense
URL:https://alcompasrevista.com/agenda/las-siete-palabras-de-cristo-a-la-cruz-haydn
LOCATION:Camerata – Església Sant Joan Baptista
CATEGORIES:concierto
ATTACH;FMTTYPE=image/png:https://alcompasrevista.com/wp-content/uploads/2024/03/Captura-de-pantalla-2024-03-27-a-las-12.45.20.png
END:VEVENT
END:VCALENDAR