BEGIN:VCALENDAR
VERSION:2.0
PRODID:-//Revista Al Compàs - ECPv6.15.20//NONSGML v1.0//EN
CALSCALE:GREGORIAN
METHOD:PUBLISH
X-ORIGINAL-URL:https://alcompasrevista.com
X-WR-CALDESC:Eventos para Revista Al Compàs
REFRESH-INTERVAL;VALUE=DURATION:PT1H
X-Robots-Tag:noindex
X-PUBLISHED-TTL:PT1H
BEGIN:VTIMEZONE
TZID:Europe/Madrid
BEGIN:DAYLIGHT
TZOFFSETFROM:+0100
TZOFFSETTO:+0200
TZNAME:CEST
DTSTART:20220327T010000
END:DAYLIGHT
BEGIN:STANDARD
TZOFFSETFROM:+0200
TZOFFSETTO:+0100
TZNAME:CET
DTSTART:20221030T010000
END:STANDARD
BEGIN:DAYLIGHT
TZOFFSETFROM:+0100
TZOFFSETTO:+0200
TZNAME:CEST
DTSTART:20230326T010000
END:DAYLIGHT
BEGIN:STANDARD
TZOFFSETFROM:+0200
TZOFFSETTO:+0100
TZNAME:CET
DTSTART:20231029T010000
END:STANDARD
BEGIN:DAYLIGHT
TZOFFSETFROM:+0100
TZOFFSETTO:+0200
TZNAME:CEST
DTSTART:20240331T010000
END:DAYLIGHT
BEGIN:STANDARD
TZOFFSETFROM:+0200
TZOFFSETTO:+0100
TZNAME:CET
DTSTART:20241027T010000
END:STANDARD
END:VTIMEZONE
BEGIN:VEVENT
DTSTART;TZID=Europe/Madrid:20231126T123000
DTEND;TZID=Europe/Madrid:20231126T123000
DTSTAMP:20260423T044718
CREATED:20231120T164305Z
LAST-MODIFIED:20231120T164305Z
UID:10000281-1701001800-1701001800@alcompasrevista.com
SUMMARY:Concierto Santa Cecilia SM La Lira de Chulilla
DESCRIPTION:
URL:https://alcompasrevista.com/agenda/concierto-santa-cecilia-sm-la-lira-de-chulilla
LOCATION:Auditorio de Chulilla\, Chulilla
CATEGORIES:concierto
ATTACH;FMTTYPE=image/png:https://alcompasrevista.com/wp-content/uploads/2023/11/Diseno-sin-titulo-3.png
END:VEVENT
END:VCALENDAR