BEGIN:VCALENDAR
VERSION:2.0
PRODID:-//Revista Al Compàs - ECPv6.15.20//NONSGML v1.0//EN
CALSCALE:GREGORIAN
METHOD:PUBLISH
X-ORIGINAL-URL:https://alcompasrevista.com
X-WR-CALDESC:Eventos para Revista Al Compàs
REFRESH-INTERVAL;VALUE=DURATION:PT1H
X-Robots-Tag:noindex
X-PUBLISHED-TTL:PT1H
BEGIN:VTIMEZONE
TZID:Europe/Madrid
BEGIN:DAYLIGHT
TZOFFSETFROM:+0100
TZOFFSETTO:+0200
TZNAME:CEST
DTSTART:20240331T010000
END:DAYLIGHT
BEGIN:STANDARD
TZOFFSETFROM:+0200
TZOFFSETTO:+0100
TZNAME:CET
DTSTART:20241027T010000
END:STANDARD
BEGIN:DAYLIGHT
TZOFFSETFROM:+0100
TZOFFSETTO:+0200
TZNAME:CEST
DTSTART:20250330T010000
END:DAYLIGHT
BEGIN:STANDARD
TZOFFSETFROM:+0200
TZOFFSETTO:+0100
TZNAME:CET
DTSTART:20251026T010000
END:STANDARD
BEGIN:DAYLIGHT
TZOFFSETFROM:+0100
TZOFFSETTO:+0200
TZNAME:CEST
DTSTART:20260329T010000
END:DAYLIGHT
BEGIN:STANDARD
TZOFFSETFROM:+0200
TZOFFSETTO:+0100
TZNAME:CET
DTSTART:20261025T010000
END:STANDARD
BEGIN:DAYLIGHT
TZOFFSETFROM:+0100
TZOFFSETTO:+0200
TZNAME:CEST
DTSTART:20270328T010000
END:DAYLIGHT
BEGIN:STANDARD
TZOFFSETFROM:+0200
TZOFFSETTO:+0100
TZNAME:CET
DTSTART:20271031T010000
END:STANDARD
END:VTIMEZONE
BEGIN:VEVENT
DTSTART;TZID=Europe/Madrid:20251125T080000
DTEND;TZID=Europe/Madrid:20260118T170000
DTSTAMP:20260420T174842
CREATED:20260115T102009Z
LAST-MODIFIED:20260115T102206Z
UID:10001138-1764057600-1768755600@alcompasrevista.com
SUMMARY:II Concurso de Jóvenes Intérpretes Escuela de Música Comarcal El Valle
DESCRIPTION:Convocatoria abierta: del 25 de noviembre de 2025 al 15 de enero de 2026  \nEl II Concurso de Jóvenes Intérpretes abre una nueva edición con el objetivo de impulsar el talento musical emergente y ofrecer un espacio de proyección a jóvenes intérpretes. La competición se desarrollará en varias fases a lo largo de los primeros meses de 2026\, combinando audiciones\, ensayos con pianista y una fase final abierta al público. \nLa primera fase tendrá lugar los días 7 y 8 de febrero de 2026\, diferenciada por categorías (C y B el día 7\, y categoría A el día 8). Previamente\, se realizarán ensayos con pianista el 24 de enero de 2026 en la U.M. Llíria y el 31 de enero de 2026 en Jarafuel. La fase final del concurso se celebrará el 7 de marzo de 2026 en Jarafuel. \nEl tribunal estará compuesto por Bernat Adam Llagües\, director de orquesta y miembro de la Junta de Gobierno de la Academia de la Música Valenciana\, y Manuel Morales Martínez\, compositor valenciano\, garantizando una valoración artística rigurosa y especializada. \nLas inscripciones podrán formalizarse entre el 25 de noviembre de 2025 y el 15 de enero de 2026. Para más información\, se ha habilitado el teléfono de contacto 645 05 11 78. 
URL:https://alcompasrevista.com/agenda/ii-concurso-de-jovenes-interpretes-escuela-de-musica-comarcal-el-valle
CATEGORIES:Concurso
END:VEVENT
BEGIN:VEVENT
DTSTART;VALUE=DATE:20251214
DTEND;VALUE=DATE:20251216
DTSTAMP:20260420T174842
CREATED:20251210T081648Z
LAST-MODIFIED:20251210T081758Z
UID:10001134-1765684800-1765771199@alcompasrevista.com
SUMMARY:Concierto de Navidad Societat Musical la Unió de Tres Forques
DESCRIPTION:¡Las fiestas navideñas se acercan\, y qué mejor forma de celebrarlo que con la mejor música! \nDesde la SMUTF\, tenemos el placer de invitaros a un evento muy especial para dar la bienvenida a la Navidad en nuestro Auditorio: un Recital de Villancicos que promete ser entrañable. \n\n\n¿Cuándo? El próximo domingo\, 14 de diciembre. \n\n\n¿Hora? A las 19:00 horas. \n\n\n¿Dónde? En el Auditorio de la SMUTF. \n\n\nEste concierto contará con la magnífica voz del tenor Ricardo Gabaldón Ferreres\, acompañado magistralmente al piano por José Madrid.
URL:https://alcompasrevista.com/agenda/concierto-de-navidad-societat-musical-la-unio-de-tres-forques
END:VEVENT
BEGIN:VEVENT
DTSTART;VALUE=DATE:20251220
DTEND;VALUE=DATE:20251222
DTSTAMP:20260420T174842
CREATED:20251210T142007Z
LAST-MODIFIED:20251210T142127Z
UID:10001135-1766203200-1766289599@alcompasrevista.com
SUMMARY:La Orquesta Filarmónica de Requena abordará obras de Wagner y Chaikovski en el ‘Concierto de Navidad’
DESCRIPTION:La Orquesta Filarmónica de Requena abordará obras de Wagner y Chaikovski en el ‘Concierto de Navidad’   \n\n\n\n\n\n\n\n\n\n\n\n\n\n\n\n\n\n\n  \n\n\n\n\n\n\n\nLa formación\, dirigida por Francisco Melero\, afrontará en el concierto\, que patrocina la Fundación Ciudad de Requena y la Bodega Raíces Ibéricas\, el programa Wagner & Chaikovski\, que rinde homenaje a dos gigantes de la música sinfónica en el Teatro Principal de Requena\, el sábado 20 a las 19h\n\n\n  \n\n\nEn la primera parte\, interpretará la Cabalgata de las Valquirias de Wagner y la Obertura de Romeo y Julieta de Chaikovski; en la segunda\, la Obertura de Tannhaüser y una selección de El lago de los cisnes; y para finalizar el concierto\, la Suite Navideña junto con el Coro del Conservatorio Mariano Pérez de Requena\n\n\n  \n\n\nEsta propuesta transportará al público a mundos épicos y románticos\, con obras de referencia que han marcado la historia de la música clásica por su intensidad emocional\, riqueza orquestal y belleza melódica\n\n\n  \n\n\nErnesto Monzó\, presidente de la Orquesta Filarmónica Fundación Ciudad de Requena: “El Concierto de Navidad es uno de los momentos más esperados del año para nuestra orquesta y para Requena”; y señala que la formación propondrá “un viaje musical extraordinario con obras de dos grandes compositores”
URL:https://alcompasrevista.com/agenda/la-orquesta-filarmonica-de-requena-abordara-obras-de-wagner-y-chaikovski-en-el-concierto-de-navidad
END:VEVENT
END:VCALENDAR