BEGIN:VCALENDAR
VERSION:2.0
PRODID:-//Revista Al Compàs - ECPv6.15.20//NONSGML v1.0//EN
CALSCALE:GREGORIAN
METHOD:PUBLISH
X-ORIGINAL-URL:https://alcompasrevista.com
X-WR-CALDESC:Eventos para Revista Al Compàs
REFRESH-INTERVAL;VALUE=DURATION:PT1H
X-Robots-Tag:noindex
X-PUBLISHED-TTL:PT1H
BEGIN:VTIMEZONE
TZID:Europe/Madrid
BEGIN:DAYLIGHT
TZOFFSETFROM:+0100
TZOFFSETTO:+0200
TZNAME:CEST
DTSTART:20230326T010000
END:DAYLIGHT
BEGIN:STANDARD
TZOFFSETFROM:+0200
TZOFFSETTO:+0100
TZNAME:CET
DTSTART:20231029T010000
END:STANDARD
BEGIN:DAYLIGHT
TZOFFSETFROM:+0100
TZOFFSETTO:+0200
TZNAME:CEST
DTSTART:20240331T010000
END:DAYLIGHT
BEGIN:STANDARD
TZOFFSETFROM:+0200
TZOFFSETTO:+0100
TZNAME:CET
DTSTART:20241027T010000
END:STANDARD
BEGIN:DAYLIGHT
TZOFFSETFROM:+0100
TZOFFSETTO:+0200
TZNAME:CEST
DTSTART:20250330T010000
END:DAYLIGHT
BEGIN:STANDARD
TZOFFSETFROM:+0200
TZOFFSETTO:+0100
TZNAME:CET
DTSTART:20251026T010000
END:STANDARD
END:VTIMEZONE
BEGIN:VEVENT
DTSTART;TZID=Europe/Madrid:20241201T110000
DTEND;TZID=Europe/Madrid:20241201T110000
DTSTAMP:20260423T084358
CREATED:20241126T150926Z
LAST-MODIFIED:20241126T150926Z
UID:10001041-1733050800-1733050800@alcompasrevista.com
SUMMARY:Concierto de Santa Cecilia de la Primitiva Setabense
DESCRIPTION:
URL:https://alcompasrevista.com/agenda/concierto-de-santa-cecilia-de-la-primitiva-setabense
LOCATION:Gran Teatre de Xàtiva
ATTACH;FMTTYPE=image/jpeg:https://alcompasrevista.com/wp-content/uploads/2024/11/setabense.jpg
END:VEVENT
BEGIN:VEVENT
DTSTART;TZID=Europe/Madrid:20241201T120000
DTEND;TZID=Europe/Madrid:20241201T120000
DTSTAMP:20260423T084358
CREATED:20241126T150328Z
LAST-MODIFIED:20241126T150328Z
UID:10001040-1733054400-1733054400@alcompasrevista.com
SUMMARY:L'Artística Manisense. VII Ciclo CaixaBank de Orquestas de la Comunidad Valenciana
DESCRIPTION:
URL:https://alcompasrevista.com/agenda/lartistica-manisense-vii-ciclo-caixabank-de-orquestas-de-la-comunidad-valenciana
LOCATION:Auditorio Germanies\, Manises
ATTACH;FMTTYPE=image/jpeg:https://alcompasrevista.com/wp-content/uploads/2024/11/Cartel_val_np_Cicle-Orquestres-Caixabank-20242025.jpg
END:VEVENT
BEGIN:VEVENT
DTSTART;TZID=Europe/Madrid:20241206T180000
DTEND;TZID=Europe/Madrid:20241206T180000
DTSTAMP:20260423T084358
CREATED:20241126T151423Z
LAST-MODIFIED:20241126T151423Z
UID:10001042-1733508000-1733508000@alcompasrevista.com
SUMMARY:Concierto de Santa Cecilia de la SM La Constància de Moixent
DESCRIPTION:
URL:https://alcompasrevista.com/agenda/concierto-de-santa-cecilia-de-la-sm-la-constancia-de-moixent
LOCATION:Auditori Municipal «Gabriel Aracil»\, Moixent
ATTACH;FMTTYPE=image/png:https://alcompasrevista.com/wp-content/uploads/2024/11/moixent.png
END:VEVENT
BEGIN:VEVENT
DTSTART;VALUE=DATE:20241207
DTEND;VALUE=DATE:20241209
DTSTAMP:20260423T084358
CREATED:20240514T144835Z
LAST-MODIFIED:20240516T142828Z
UID:10000680-1733544000-1733630399@alcompasrevista.com
SUMMARY:50 Edición del Certamen Internacional de Música "Vila de Altea"
DESCRIPTION:Societat Filharmònica Alteanense
URL:https://alcompasrevista.com/agenda/50-edicio-del-certamen-internacional-de-musica-vila-de-altea
CATEGORIES:Certamen
ATTACH;FMTTYPE=image/png:https://alcompasrevista.com/wp-content/uploads/2024/05/Captura-de-pantalla-2024-05-14-a-las-16.45.48.png
END:VEVENT
BEGIN:VEVENT
DTSTART;TZID=Europe/Madrid:20241207T160000
DTEND;TZID=Europe/Madrid:20241207T160000
DTSTAMP:20260423T084358
CREATED:20241126T151710Z
LAST-MODIFIED:20241126T151710Z
UID:10001043-1733587200-1733587200@alcompasrevista.com
SUMMARY:50 Certamen Internacional de Música Vila d'Altea
DESCRIPTION:
URL:https://alcompasrevista.com/agenda/50-certamen-internacional-de-musica-vila-daltea
LOCATION:Palau Altea Centre d’Arts\, Altea
ATTACH;FMTTYPE=image/jpeg:https://alcompasrevista.com/wp-content/uploads/2024/11/CARTEL-CERTAMEN-ALTEA-2024-AAFF-2_page-0001-scaled-1.jpg
END:VEVENT
BEGIN:VEVENT
DTSTART;TZID=Europe/Madrid:20241208T120000
DTEND;TZID=Europe/Madrid:20241208T120000
DTSTAMP:20260423T084358
CREATED:20241126T152330Z
LAST-MODIFIED:20241126T152330Z
UID:10001045-1733659200-1733659200@alcompasrevista.com
SUMMARY:SM La Paz de San Juan de Alicante. VII Ciclo CaixaBank de Orquestas de la Comunidad Valenciana
DESCRIPTION:
URL:https://alcompasrevista.com/agenda/sm-la-paz-de-san-juan-de-alicante-vii-ciclo-caixabank-de-orquestas-de-la-comunidad-valenciana
LOCATION:Monasterio de la Santa Faz\, Santa Faz
ATTACH;FMTTYPE=image/jpeg:https://alcompasrevista.com/wp-content/uploads/2024/11/Cartel_val_np_Cicle-Orquestres-Caixabank-20242025.jpg
END:VEVENT
BEGIN:VEVENT
DTSTART;TZID=Europe/Madrid:20241208T180000
DTEND;TZID=Europe/Madrid:20241208T180000
DTSTAMP:20260423T084358
CREATED:20241126T152023Z
LAST-MODIFIED:20241126T152023Z
UID:10001044-1733680800-1733680800@alcompasrevista.com
SUMMARY:Concierto Música a la Llum de la Joven Banda Sinfónica de la FSMCV
DESCRIPTION:
URL:https://alcompasrevista.com/agenda/concierto-musica-a-la-llum-de-la-joven-banda-sinfonica-de-la-fsmcv-3
LOCATION:Teatro Municipal Carmen Tur\, La Vall d’Uixó
ATTACH;FMTTYPE=application/pdf:https://alcompasrevista.com/wp-content/uploads/2024/11/cartel2024_70x100_2.pdf
END:VEVENT
BEGIN:VEVENT
DTSTART;TZID=Europe/Madrid:20241214T183000
DTEND;TZID=Europe/Madrid:20241214T183000
DTSTAMP:20260423T084358
CREATED:20241126T152813Z
LAST-MODIFIED:20241126T152813Z
UID:10001046-1734201000-1734201000@alcompasrevista.com
SUMMARY:Concierto 25 aniversario de la UM Santa Ana de Zarra
DESCRIPTION:
URL:https://alcompasrevista.com/agenda/concierto-25-aniversario-de-la-um-santa-ana-de-zarra
LOCATION:Casa de la Cultura de Zarra
ATTACH;FMTTYPE=image/jpeg:https://alcompasrevista.com/wp-content/uploads/2024/11/Zarra.jpg
END:VEVENT
BEGIN:VEVENT
DTSTART;TZID=Europe/Madrid:20241214T190000
DTEND;TZID=Europe/Madrid:20241214T190000
DTSTAMP:20260423T084358
CREATED:20241126T153158Z
LAST-MODIFIED:20241126T153158Z
UID:10001047-1734202800-1734202800@alcompasrevista.com
SUMMARY:Concierto 175 Aniversario de la SM Santa Cecilia de Requena
DESCRIPTION:
URL:https://alcompasrevista.com/agenda/concierto-175-aniversario-de-la-sm-santa-cecilia-de-requena
LOCATION:Teatro Principal de Requena
ATTACH;FMTTYPE=image/jpeg:https://alcompasrevista.com/wp-content/uploads/2024/11/Requena.jpg
END:VEVENT
BEGIN:VEVENT
DTSTART;TZID=Europe/Madrid:20241221T120000
DTEND;TZID=Europe/Madrid:20241221T120000
DTSTAMP:20260423T084358
CREATED:20241126T153423Z
LAST-MODIFIED:20241126T153423Z
UID:10001048-1734782400-1734782400@alcompasrevista.com
SUMMARY:UM Sueños de Artista de Almedíjar. Ciclo de Conciertos FSMCV de Música de Cámara
DESCRIPTION:
URL:https://alcompasrevista.com/agenda/um-suenos-de-artista-de-almedijar-ciclo-de-conciertos-fsmcv-de-musica-de-camara
LOCATION:Alqueria Julia-Casa de la Musica\, València
ATTACH;FMTTYPE=image/jpeg:https://alcompasrevista.com/wp-content/uploads/2024/11/II-CICLO-Todas-las-fechas_Pagina_1-scaled.jpg
END:VEVENT
BEGIN:VEVENT
DTSTART;TZID=Europe/Madrid:20241221T193000
DTEND;TZID=Europe/Madrid:20241221T193000
DTSTAMP:20260423T084358
CREATED:20241126T153621Z
LAST-MODIFIED:20241126T153621Z
UID:10001049-1734809400-1734809400@alcompasrevista.com
SUMMARY:Banda Primitiva de Llíria. VII Ciclo CaixaBank de Orquestas de la Comunidad Valenciana
DESCRIPTION:
URL:https://alcompasrevista.com/agenda/banda-primitiva-de-lliria-vii-ciclo-caixabank-de-orquestas-de-la-comunidad-valenciana
LOCATION:Teatro de la Banda Primitiva\, C/ Metge Miguel Pérez 4 – 6\, Llíria
ATTACH;FMTTYPE=image/jpeg:https://alcompasrevista.com/wp-content/uploads/2024/11/Cartel_val_np_Cicle-Orquestres-Caixabank-20242025.jpg
END:VEVENT
BEGIN:VEVENT
DTSTART;TZID=Europe/Madrid:20241228T120000
DTEND;TZID=Europe/Madrid:20241228T120000
DTSTAMP:20260423T084358
CREATED:20241126T153839Z
LAST-MODIFIED:20241126T153839Z
UID:10001050-1735387200-1735387200@alcompasrevista.com
SUMMARY:CIM Santa Cecilia de Yátova. Ciclo de Conciertos FSMCV de Música de Cámara
DESCRIPTION:
URL:https://alcompasrevista.com/agenda/cim-santa-cecilia-de-yatova-ciclo-de-conciertos-fsmcv-de-musica-de-camara
LOCATION:Alqueria Julia-Casa de la Musica\, València
ATTACH;FMTTYPE=image/jpeg:https://alcompasrevista.com/wp-content/uploads/2024/11/II-CICLO-Todas-las-fechas_Pagina_1-scaled.jpg
END:VEVENT
END:VCALENDAR